BEGIN:VCALENDAR
VERSION:2.0
PRODID:-//ChamberMaster//Event Calendar 2.0//EN
METHOD:PUBLISH
X-PUBLISHED-TTL:P3D
REFRESH-INTERVAL:P3D
CALSCALE:GREGORIAN
BEGIN:VEVENT
DTSTART:20160907T213000Z
DTEND:20160907T223000Z
X-MICROSOFT-CDO-ALLDAYEVENT:FALSE
SUMMARY:PR Committee Meeting
DESCRIPTION:
X-ALT-DESC;FMTTYPE=text/html:
LOCATION:MBA Pierce Office 1120 Pacific Ave\, Ste 301 Tacoma\, WA 98402
UID:e.9280.1378
SEQUENCE:3
DTSTAMP:20260422T215449Z
URL:https://members.masterbuilderspierce.com/events/details/pr-committee-meeting-09-07-2016-1378
END:VEVENT

END:VCALENDAR
