BEGIN:VCALENDAR
VERSION:2.0
PRODID:-//ChamberMaster//Event Calendar 2.0//EN
METHOD:PUBLISH
X-PUBLISHED-TTL:P3D
REFRESH-INTERVAL:P3D
CALSCALE:GREGORIAN
BEGIN:VEVENT
DTSTART:20160804T213000Z
DTEND:20160804T223000Z
X-MICROSOFT-CDO-ALLDAYEVENT:FALSE
SUMMARY:PR Committee Meeting
DESCRIPTION:
X-ALT-DESC;FMTTYPE=text/html:
LOCATION:MBA Pierce 1120 Pacific Ave\, Ste 301\, Tacoma\, WA 98402
UID:e.9280.1372
SEQUENCE:3
DTSTAMP:20260422T231809Z
URL:https://members.masterbuilderspierce.com/events/details/pr-committee-meeting-08-04-2016-1372
END:VEVENT

END:VCALENDAR
