BEGIN:VCALENDAR
VERSION:2.0
PRODID:-//ChamberMaster//Event Calendar 2.0//EN
METHOD:PUBLISH
X-PUBLISHED-TTL:P3D
REFRESH-INTERVAL:P3D
CALSCALE:GREGORIAN
BEGIN:VEVENT
DTSTART:20160105T230000Z
DTEND:20160106T010000Z
X-MICROSOFT-CDO-ALLDAYEVENT:FALSE
SUMMARY:PR Committee Meeting
DESCRIPTION:
X-ALT-DESC;FMTTYPE=text/html:
LOCATION:MBA Pierce Office 1120 Pacific Ave\, Suite 301 Tacoma\, WA 98402
UID:e.9280.47
SEQUENCE:3
DTSTAMP:20260423T120246Z
URL:https://members.masterbuilderspierce.com/events/details/pr-committee-meeting-01-05-2016-47
END:VEVENT

END:VCALENDAR
