BEGIN:VCALENDAR
VERSION:2.0
PRODID:-//ChamberMaster//Event Calendar 2.0//EN
METHOD:PUBLISH
X-PUBLISHED-TTL:P3D
REFRESH-INTERVAL:P3D
CALSCALE:GREGORIAN
BEGIN:VEVENT
DTSTART:20170922T003000Z
DTEND:20170922T023000Z
X-MICROSOFT-CDO-ALLDAYEVENT:FALSE
SUMMARY:Plugged In: Embracing Tech In Design Without Feeling Disconnected
DESCRIPTION:Join Luxe Interiors + Design's Pacific Northwest homes editor Lisa Bingham Dewart and a panel of industry pros as they discuss how technology impacts home design.  From tools used within their practices to smart home technology\, we'll explore how to keep on top of new developments. We'll also cover the rise of social media and the power it has - along with the opportunities and pitfalls of being connected 24/7.\n\n\n\nLit bites & refreshments\n\nRegister to win a $5\,000 Seldens Gift Certificate!\n\n\n\nPlease RSVP - Seating is Limited\n\nseldensbellevue.eventbrite.com
X-ALT-DESC;FMTTYPE=text/html:Join <em>Luxe Interiors + Design&#39\;s </em>Pacific Northwest homes editor Lisa Bingham Dewart and a panel of industry pros as they discuss how technology impacts home design.&nbsp\; From tools used within their practices to smart home technology\, we&#39\;ll explore how to keep on top of new developments. We&#39\;ll also cover the rise of social media and the power it has - along with the opportunities and pitfalls of being connected 24/7.<br />\n<br />\nLit bites &amp\; refreshments<br />\nRegister to win a $5\,000 Seldens Gift Certificate!<br />\n<br />\nPlease RSVP - Seating is Limited<br />\nseldensbellevue.eventbrite.com&nbsp\;
LOCATION:Seldens of Bellevue 10708 Main Street\, Suite 300 Bellevue\, WA 98004
UID:e.9280.2034
SEQUENCE:3
DTSTAMP:20260422T035800Z
URL:https://members.masterbuilderspierce.com/events/details/plugged-in-embracing-tech-in-design-without-feeling-disconnected-2034
END:VEVENT

END:VCALENDAR
