BEGIN:VCALENDAR
VERSION:2.0
PRODID:-//ChamberMaster//Event Calendar 2.0//EN
METHOD:PUBLISH
X-PUBLISHED-TTL:P3D
REFRESH-INTERVAL:P3D
CALSCALE:GREGORIAN
BEGIN:VEVENT
DTSTART;VALUE=DATE:20160310
DTEND;VALUE=DATE:20160312
TRANSP:TRANSPARENT
X-MICROSOFT-CDO-ALLDAYEVENT:TRUE
SUMMARY:OSHA 10 (BIAW) (3/10-11/2016)
DESCRIPTION:OSHA 10 Hour Card This two day course will introduce you to OSHA/WISHA. This informative seminar will help you understand personal protective equipment\, hazard communication\, noise\, fall protection\, electrical safety\, trenching and excavation\, tool safety\, material handling\, mechanical equipment as well as stairs and ladders. Participants will receive a sample written accident prevention program\, on cd\, along with helpful documents\, a copy of WISHA's code\, on CD and a OSHA 10 hour card. Authorized Instructors: Kris Alberti
X-ALT-DESC;FMTTYPE=text/html:<span style="color: rgb(71\, 73\, 75)\; font-family: Arial\; font-size: 12.1px\; line-height: 17.545px\; background-color: rgb(255\, 255\, 255)\;">OSHA 10 Hour Card This two day course will introduce you to OSHA/WISHA. This informative seminar will help you understand personal protective equipment\, hazard communication\, noise\, fall protection\, electrical safety\, trenching and excavation\, tool safety\, material handling\, mechanical equipment as well as stairs and ladders. Participants will receive a sample written accident prevention program\, on cd\, along with helpful documents\, a copy of WISHA&#39\;s code\, on CD and a OSHA 10 hour card. Authorized Instructors: Kris Alberti</span>
LOCATION:MBA Pierce Office (1120 Pacific Ave\, Ste 301\, Tacoma)
UID:e.9280.67
SEQUENCE:3
DTSTAMP:20260423T070335Z
URL:https://members.masterbuilderspierce.com/events/details/osha-10-biaw-3-10-11-2016-03-10-2016-67
END:VEVENT

END:VCALENDAR
