BEGIN:VCALENDAR
VERSION:2.0
PRODID:-//ChamberMaster//Event Calendar 2.0//EN
METHOD:PUBLISH
X-PUBLISHED-TTL:P3D
REFRESH-INTERVAL:P3D
CALSCALE:GREGORIAN
BEGIN:VEVENT
DTSTART:20181002T150000Z
DTEND:20181003T180000Z
X-MICROSOFT-CDO-ALLDAYEVENT:FALSE
SUMMARY:OSHA 10
DESCRIPTION:Get the training you need to stay DOSH/OSHA compliant. This course gives employees basic knowledge to be competent in their workplace when identifying existing or predictable hazards likely to cause injury. \n\n- Introduction to OSHA\n\n- Electrical Safety\n\n- Fall Protection\n\n- Confined Space\n\n- Trenching and Excavation\n\n- Crane Safety\n\n- Personal Protective Equipment\n\n- Job Hazard Analysis\n\n- Ladder Safety\n\n- Scaffold Awareness\n\n- Lockout / Tag out\n\n- And Much More
X-ALT-DESC;FMTTYPE=text/html:<h4 id="Content1_lblClassTitle" style="margin-top: 0.5em\; margin-bottom: 0.5em\; font-size: large\; color: rgb(71\, 73\, 75)\; font-family: Arial\; background-color: rgb(255\, 255\, 255)\;"><span style="color: rgb(71\, 73\, 75)\; font-family: Arial\; font-size: 12.1px\;">Get the training you need to stay DOSH/OSHA compliant. This course gives employees basic knowledge to be competent in their workplace when identifying existing or predictable hazards likely to cause injury.&nbsp\;</span><br style="color: rgb(71\, 73\, 75)\; font-family: Arial\; font-size: 12.1px\;" />\n<span style="color: rgb(71\, 73\, 75)\; font-family: Arial\; font-size: 12.1px\;">- Introduction to OSHA</span><br style="color: rgb(71\, 73\, 75)\; font-family: Arial\; font-size: 12.1px\;" />\n<span style="color: rgb(71\, 73\, 75)\; font-family: Arial\; font-size: 12.1px\;">- Electrical Safety</span><br style="color: rgb(71\, 73\, 75)\; font-family: Arial\; font-size: 12.1px\;" />\n<span style="color: rgb(71\, 73\, 75)\; font-family: Arial\; font-size: 12.1px\;">- Fall Protection</span><br style="color: rgb(71\, 73\, 75)\; font-family: Arial\; font-size: 12.1px\;" />\n<span style="color: rgb(71\, 73\, 75)\; font-family: Arial\; font-size: 12.1px\;">- Confined Space</span><br style="color: rgb(71\, 73\, 75)\; font-family: Arial\; font-size: 12.1px\;" />\n<span style="color: rgb(71\, 73\, 75)\; font-family: Arial\; font-size: 12.1px\;">- Trenching and Excavation</span><br style="color: rgb(71\, 73\, 75)\; font-family: Arial\; font-size: 12.1px\;" />\n<span style="color: rgb(71\, 73\, 75)\; font-family: Arial\; font-size: 12.1px\;">- Crane Safety</span><br style="color: rgb(71\, 73\, 75)\; font-family: Arial\; font-size: 12.1px\;" />\n<span style="color: rgb(71\, 73\, 75)\; font-family: Arial\; font-size: 12.1px\;">- Personal Protective Equipment</span><br style="color: rgb(71\, 73\, 75)\; font-family: Arial\; font-size: 12.1px\;" />\n<span style="color: rgb(71\, 73\, 75)\; font-family: Arial\; font-size: 12.1px\;">- Job Hazard Analysis</span><br style="color: rgb(71\, 73\, 75)\; font-family: Arial\; font-size: 12.1px\;" />\n<span style="color: rgb(71\, 73\, 75)\; font-family: Arial\; font-size: 12.1px\;">- Ladder Safety</span><br style="color: rgb(71\, 73\, 75)\; font-family: Arial\; font-size: 12.1px\;" />\n<span style="color: rgb(71\, 73\, 75)\; font-family: Arial\; font-size: 12.1px\;">- Scaffold Awareness</span><br style="color: rgb(71\, 73\, 75)\; font-family: Arial\; font-size: 12.1px\;" />\n<span style="color: rgb(71\, 73\, 75)\; font-family: Arial\; font-size: 12.1px\;">- Lockout / Tag out</span><br style="color: rgb(71\, 73\, 75)\; font-family: Arial\; font-size: 12.1px\;" />\n<span style="color: rgb(71\, 73\, 75)\; font-family: Arial\; font-size: 12.1px\;">- And Much More</span></h4>\n
LOCATION:MBA of Pierce County 3711 Center St Tacoma\, WA 98409
UID:e.9280.2382
SEQUENCE:3
DTSTAMP:20260421T082449Z
URL:https://members.masterbuilderspierce.com/events/details/osha-10-2382
END:VEVENT

END:VCALENDAR
