BEGIN:VCALENDAR
VERSION:2.0
PRODID:-//ChamberMaster//Event Calendar 2.0//EN
METHOD:PUBLISH
X-PUBLISHED-TTL:P3D
REFRESH-INTERVAL:P3D
CALSCALE:GREGORIAN
BEGIN:VEVENT
DTSTART:20170418T150000Z
DTEND:20170420T000000Z
X-MICROSOFT-CDO-ALLDAYEVENT:FALSE
SUMMARY:OSHA 10
DESCRIPTION:OSHA 10\n\nOSHA 10 Hour Card\n\n\n\nThis class meets most written plan and training requirements for contractors in Washington State. Includes: Introduction to OSHA\; Construction Accident Prevention and Safety\; PPE\; Fall Protection\; Ladders\, Scaffolds and Stairways\; Heat Related Rules\; Excavation and Trenching Awareness and Respiratory Protection/Hazard Communication. Successful participants receive an OSHA 10 card and written safety plans.\n\n\n\nAuthorized Instructors: Kris Alberti\, CAPS\, CGP
X-ALT-DESC;FMTTYPE=text/html:<h4 id="Content1_lblClassTitle" style="margin-top: 0.5em\; margin-bottom: 0.5em\; font-size: large\; color: rgb(71\, 73\, 75)\; font-family: Arial\; background-color: rgb(255\, 255\, 255)\;">OSHA 10</h4>\n\n<div id="Content1_lblClassDescription" style="color: rgb(71\, 73\, 75)\; font-family: Arial\; font-size: 12.1px\; background-color: rgb(255\, 255\, 255)\;">OSHA 10 Hour Card<br />\n<br />\nThis class meets most written plan and training requirements for contractors in Washington State. Includes: Introduction to OSHA\; Construction Accident Prevention and Safety\; PPE\; Fall Protection\; Ladders\, Scaffolds and Stairways\; Heat Related Rules\; Excavation and Trenching Awareness and Respiratory Protection/Hazard Communication. Successful participants receive an OSHA 10 card and written safety plans.<br />\n<br />\nAuthorized Instructors: Kris Alberti\, CAPS\, CGP</div>\n
LOCATION:MBA of Pierce County 3711 Center St Tacoma\, WA 98409
UID:e.9280.1801
SEQUENCE:3
DTSTAMP:20260422T112425Z
URL:https://members.masterbuilderspierce.com/events/details/osha-10-1801
END:VEVENT

END:VCALENDAR
