BEGIN:VCALENDAR
VERSION:2.0
PRODID:-//ChamberMaster//Event Calendar 2.0//EN
METHOD:PUBLISH
X-PUBLISHED-TTL:P3D
REFRESH-INTERVAL:P3D
CALSCALE:GREGORIAN
BEGIN:VEVENT
DTSTART:20141119T020000Z
DTEND:20141118T200000Z
X-MICROSOFT-CDO-ALLDAYEVENT:FALSE
SUMMARY:Nothing But Networking with 12's
DESCRIPTION:
X-ALT-DESC;FMTTYPE=text/html:
LOCATION:1515 Commerce St. Tacoma\, WA 98402
UID:e.9280.38
SEQUENCE:3
DTSTAMP:20260424T085607Z
URL:https://members.masterbuilderspierce.com/events/details/nothing-but-networking-with-12-s-11-18-2014-38
END:VEVENT

END:VCALENDAR
