BEGIN:VCALENDAR
VERSION:2.0
PRODID:-//ChamberMaster//Event Calendar 2.0//EN
METHOD:PUBLISH
X-PUBLISHED-TTL:P3D
REFRESH-INTERVAL:P3D
CALSCALE:GREGORIAN
BEGIN:VEVENT
DTSTART:20190823T000000Z
DTEND:20190823T023000Z
X-MICROSOFT-CDO-ALLDAYEVENT:FALSE
SUMMARY:Nothing But Networking BBQ Throw Down at Founder's Choice
DESCRIPTION:REGISTER HERE\n\n\n\nFounder's Choice Cabinets + Countertops\, West Coast Pitmasters and MBA Pierce County is proud to present the 2019 BBQ Throw Down networking event. Network with local business owners and watch as ten teams from West Coast Pitmasters compete for the title of Pit Master Grand Champion.\n\n\n\nFree beer\, appetizers and BBQ is provided for all attendees!\n\n\n\n4:30 p.m. |  Kegs Tapped\n\n5:00 p.m. |  Judges Served\n\n5:15 p.m. |  Open BBQ Buffet\n\n6:30 p.m. |  Guest Giveaways\n\n6:45 p.m. |  Pitmaster Awards\n\n\n\nThank you to our 2019 sponsors:\n\n\n	Founder's Choice Cabinets + Countertops\n	Harmon Brewing Co. \n	7 Seas Brewing Company \n	Manifesto Coffee\n	Johnny's \n	My 4 Sons BBQ\n	West Coast Pitmasters
X-ALT-DESC;FMTTYPE=text/html:<p><span style="font-size:18px\;"><strong><a href="https://westcoastpitmasters.com/rsvp-founders-choice-bbq-throwdown/" target="_blank">REGISTER HERE</a></strong></span><br />\n<br />\nFounder&#39\;s Choice Cabinets + Countertops\, West Coast Pitmasters and MBA Pierce County is proud to present the 2019&nbsp\;BBQ Throw Down networking event. Network with local business owners and watch as ten teams from West Coast Pitmasters compete for the title of&nbsp\;<em>Pit Master Grand Champion.</em></p>\n\n<p><br />\nFree beer\, appetizers and BBQ is provided for all attendees!<br />\n<br />\n4:30 p.m. |&nbsp\; Kegs Tapped<br />\n5:00 p.m. |&nbsp\; Judges Served<br />\n5:15&nbsp\;p.m. |&nbsp\; Open BBQ Buffet<br />\n6:30 p.m. |&nbsp\; Guest Giveaways<br />\n6:45&nbsp\;p.m. |&nbsp\; Pitmaster Awards<br />\n<br />\n<u>Thank you to our 2019 sponsors:</u></p>\n\n<ul>\n	<li>Founder&#39\;s Choice Cabinets + Countertops</li>\n	<li>Harmon Brewing Co.&nbsp\;</li>\n	<li>7 Seas Brewing Company&nbsp\;</li>\n	<li>Manifesto Coffee</li>\n	<li>Johnny&#39\;s&nbsp\;</li>\n	<li>My 4 Sons BBQ</li>\n	<li>West Coast Pitmasters</li>\n</ul>\n
LOCATION:Founder's Choice Tacoma Manufacturing Facility 6002 East McKinley Ave Tacoma\, WA 98404
UID:e.9280.3902
SEQUENCE:3
DTSTAMP:20260421T111749Z
URL:https://members.masterbuilderspierce.com/events/details/nothing-but-networking-bbq-throw-down-at-founder-s-choice-3902
END:VEVENT

END:VCALENDAR
