BEGIN:VCALENDAR
VERSION:2.0
PRODID:-//ChamberMaster//Event Calendar 2.0//EN
METHOD:PUBLISH
X-PUBLISHED-TTL:P3D
REFRESH-INTERVAL:P3D
CALSCALE:GREGORIAN
BEGIN:VEVENT
DTSTART:20150818T190000Z
DTEND:20150818T190000Z
X-MICROSOFT-CDO-ALLDAYEVENT:FALSE
SUMMARY:Nothing But Networking at Founders Choice
DESCRIPTION:
X-ALT-DESC;FMTTYPE=text/html:
LOCATION:1517 South Tacoma Way Tacoma\, WA 98409
UID:e.9280.37
SEQUENCE:3
DTSTAMP:20260423T182401Z
URL:https://members.masterbuilderspierce.com/events/details/nothing-but-networking-at-founders-choice-08-18-2015-37
END:VEVENT

END:VCALENDAR
