BEGIN:VCALENDAR
VERSION:2.0
PRODID:-//ChamberMaster//Event Calendar 2.0//EN
METHOD:PUBLISH
X-PUBLISHED-TTL:P3D
REFRESH-INTERVAL:P3D
CALSCALE:GREGORIAN
BEGIN:VEVENT
DTSTART:20170816T003000Z
DTEND:20170816T023000Z
X-MICROSOFT-CDO-ALLDAYEVENT:FALSE
SUMMARY:Nothing But Networking at Founder's Choice Cabinets & Countertops
DESCRIPTION:GRILLING\, SOCIALIZING\, AND TALKING TACOMA. Come join us for some good food and a sneak peek of Founder's Choice Cabinetry's new manufacturing facility!\n\n\n\nTo celebrate Tacoma manufacturing\, we've got giveaways from two pillars of the community: Johnny's Fine Foods and The Harmon. We are also giving away four $50 gift cards to The Hub. \n\n\n\nBe sure to come early and put in your entries for the giveaway! Winners announced at 7:00 pm\n\n\n\nEntry is completely free\, so come enjoy some brats grilled by our own David Sizemore and beer from Tacoma's first micro-brewer!
X-ALT-DESC;FMTTYPE=text/html:<strong>GRILLING\, SOCIALIZING\, AND TALKING TACOMA</strong>. Come join us for some good food and a sneak peek of Founder&#39\;s Choice Cabinetry&#39\;s new manufacturing facility!<br />\n<br />\nTo celebrate Tacoma manufacturing\, we&#39\;ve got giveaways from two pillars of the community: <strong>Johnny&#39\;s Fine Foods</strong> and <strong>The Harmon</strong>. We are also giving away <strong>four $50 gift cards to The Hub</strong>.&nbsp\;<br />\n<br />\nBe sure to come early and put in your entries for the giveaway! Winners announced at 7:00 pm<br />\n<br />\nEntry is completely free\, so come enjoy some brats grilled by our own David Sizemore and beer from Tacoma&#39\;s first micro-brewer!
LOCATION:*NOTE ADDRESS UPDATE Founder's Choice Cabinets & Countertops 1517 South Tacoma Way Tacoma\, WA 98409
UID:e.9280.1837
SEQUENCE:3
DTSTAMP:20260422T053006Z
URL:https://members.masterbuilderspierce.com/events/details/nothing-but-networking-at-founder-s-choice-cabinets-countertops-1837
END:VEVENT

END:VCALENDAR
