BEGIN:VCALENDAR
VERSION:2.0
PRODID:-//ChamberMaster//Event Calendar 2.0//EN
METHOD:PUBLISH
X-PUBLISHED-TTL:P3D
REFRESH-INTERVAL:P3D
CALSCALE:GREGORIAN
BEGIN:VEVENT
DTSTART:20180914T000000Z
DTEND:20180914T023000Z
X-MICROSOFT-CDO-ALLDAYEVENT:FALSE
SUMMARY:Nothing But Networking at Founder's Choice
DESCRIPTION:Founder's Choice Cabinets + Countertops\, West Coast Pitmasters and MBA Pierce County is proud to present the 2018 BBQ Throw Down networking event. Network with local business owners and watch as eight teams from West Coast Pitmasters compete for the title of Ultimate Pit Master. \n\n\n\nFree beer\, appetizers and BBQ is provided for all attendees -- Register now!
X-ALT-DESC;FMTTYPE=text/html:<p>Founder&#39\;s Choice Cabinets + Countertops\, West Coast Pitmasters and MBA Pierce County is proud to present the 2018&nbsp\;BBQ Throw Down networking event. Network with local business owners and watch as eight teams from West Coast Pitmasters compete for the title of <em>Ultimate Pit Master.</em>&nbsp\;</p>\n\n<p><br />\nFree beer\, appetizers and BBQ is provided for all attendees --&nbsp\;Register now!</p>\n
LOCATION:6002 East McKinley Ave Tacoma\, WA 98404
UID:e.9280.3554
SEQUENCE:3
DTSTAMP:20260421T113547Z
URL:https://members.masterbuilderspierce.com/events/details/nothing-but-networking-at-founder-s-choice-3554
END:VEVENT

END:VCALENDAR
