BEGIN:VCALENDAR
VERSION:2.0
PRODID:-//ChamberMaster//Event Calendar 2.0//EN
METHOD:PUBLISH
X-PUBLISHED-TTL:P3D
REFRESH-INTERVAL:P3D
CALSCALE:GREGORIAN
BEGIN:VEVENT
DTSTART:20160817T003000Z
DTEND:20160817T023000Z
X-MICROSOFT-CDO-ALLDAYEVENT:FALSE
SUMMARY:Nothing But Networking at Fouder's Choice Cabinets & Countertops
DESCRIPTION:All Members and their guests are invited to the first MBA Pierce Nothing But Networking event of the year at Founder's Choice Cabinets & Countertops in Tacoma. Come to network with your fellow members\, have a bite to eat and learn all about what is new at Founder's Choice\, a long-time local business in Tacoma.
X-ALT-DESC;FMTTYPE=text/html:All Members and their guests are invited to the first MBA Pierce Nothing But Networking event of the year at Founder&#39\;s Choice Cabinets &amp\; Countertops in Tacoma. Come to network with your fellow members\, have a bite to eat and learn all about what is new at Founder&#39\;s Choice\, a long-time local business in Tacoma.&nbsp\;
LOCATION:Founder's Choice Cabinets & Countertops 1517 South Tacoma Way Tacoma\, WA 98409
UID:e.9280.1377
SEQUENCE:3
DTSTAMP:20260422T232248Z
URL:https://members.masterbuilderspierce.com/events/details/nothing-but-networking-at-fouder-s-choice-cabinets-countertops-08-16-2016-1377
END:VEVENT

END:VCALENDAR
