BEGIN:VCALENDAR
VERSION:2.0
PRODID:-//ChamberMaster//Event Calendar 2.0//EN
METHOD:PUBLISH
X-PUBLISHED-TTL:P3D
REFRESH-INTERVAL:P3D
CALSCALE:GREGORIAN
BEGIN:VEVENT
DTSTART:20180816T233000Z
DTEND:20180817T020000Z
X-MICROSOFT-CDO-ALLDAYEVENT:FALSE
SUMMARY:New Member Meet & Greet Sponsored by Tacoma Dodge
DESCRIPTION:Please join us for pizza and a complimentary beverage!  Meet and mingle with fellow MBA Members\, the Membership Committee\, and other new recruits in a casual and welcoming setting. \n\nThis event has been generously sponsored by Tacoma Dodge.
X-ALT-DESC;FMTTYPE=text/html:Please join us for pizza and a complimentary beverage! &nbsp\;Meet and mingle with fellow MBA Members\, the Membership Committee\, and other new recruits in a casual and welcoming setting.&nbsp\;<br />\nThis event has been generously sponsored by Tacoma Dodge.<br />\n<br />\n<br />\n<br />\n<br />\n&nbsp\;
LOCATION:Gig Harbor Brewing-Back by popular demand!! 3120 S Tacoma Way Tacoma\, WA 98409
UID:e.9280.3550
SEQUENCE:3
DTSTAMP:20260421T112047Z
URL:https://members.masterbuilderspierce.com/events/details/new-member-meet-greet-sponsored-by-tacoma-dodge-3550
END:VEVENT

END:VCALENDAR
