BEGIN:VCALENDAR
VERSION:2.0
PRODID:-//ChamberMaster//Event Calendar 2.0//EN
METHOD:PUBLISH
X-PUBLISHED-TTL:P3D
REFRESH-INTERVAL:P3D
CALSCALE:GREGORIAN
BEGIN:VEVENT
DTSTART:20171004T233000Z
DTEND:20171005T010000Z
X-MICROSOFT-CDO-ALLDAYEVENT:FALSE
SUMMARY:New Member Meet & Greet
DESCRIPTION:Attention new members!  Please join us for appetizers and a complimentary beverage!  Meet and mingle with fellow MBA Members and meet other new recruits in a casual and welcoming setting.  \n\n\n\nThis event is generously sponsored by 2-10 Home Buyers Warranty and ISG.
X-ALT-DESC;FMTTYPE=text/html:Attention new members! &nbsp\;Please join us for appetizers and a complimentary beverage! &nbsp\;Meet and mingle with fellow MBA Members and meet other new recruits in a casual and welcoming setting.&nbsp\;&nbsp\;<br />\n<br />\nThis event is generously sponsored by 2-10 Home Buyers Warranty and ISG.<br />\n&nbsp\;
LOCATION:Gig Harbor Brewing Co. (in Tacoma) 3120 S Tacoma Way Tacoma\, WA 98409
UID:e.9280.2004
SEQUENCE:3
DTSTAMP:20260422T021829Z
URL:https://members.masterbuilderspierce.com/events/details/new-member-meet-greet-2004
END:VEVENT

END:VCALENDAR
