BEGIN:VCALENDAR
VERSION:2.0
PRODID:-//ChamberMaster//Event Calendar 2.0//EN
METHOD:PUBLISH
X-PUBLISHED-TTL:P3D
REFRESH-INTERVAL:P3D
CALSCALE:GREGORIAN
BEGIN:VEVENT
DTSTART:20180606T233000Z
DTEND:20180607T020000Z
X-MICROSOFT-CDO-ALLDAYEVENT:FALSE
SUMMARY:New Member Meet & Greet
DESCRIPTION:Attention new members!  Please join us for appetizers and a complimentary beverage!  Meet and mingle with fellow MBA Members\, the Membership Committee\, and other new recruits in a casual and welcoming setting. \n\nThis event is being generously sponsored by Colonial Life Insurance-The Kantor Team\n\nHope to see you there!
X-ALT-DESC;FMTTYPE=text/html:Attention new members! &nbsp\;Please join us for appetizers and a complimentary beverage! &nbsp\;Meet and mingle with fellow MBA Members\, the Membership Committee\, and other new recruits in a casual and welcoming setting.&nbsp\;<br />\nThis event is being generously sponsored by Colonial Life&nbsp\;Insurance-The Kantor&nbsp\;Team<br />\nHope to see you there!
LOCATION:Narrows Brewing Co. Brewmaster's Room 9007 South 19th St Tacoma\, WA 98466
UID:e.9280.3540
SEQUENCE:3
DTSTAMP:20260421T140834Z
URL:https://members.masterbuilderspierce.com/events/details/new-member-meet-greet-06-06-2018-3540
END:VEVENT

END:VCALENDAR
