BEGIN:VCALENDAR
VERSION:2.0
PRODID:-//ChamberMaster//Event Calendar 2.0//EN
METHOD:PUBLISH
X-PUBLISHED-TTL:P3D
REFRESH-INTERVAL:P3D
CALSCALE:GREGORIAN
BEGIN:VEVENT
DTSTART:20180606T163000Z
DTEND:20180606T173000Z
X-MICROSOFT-CDO-ALLDAYEVENT:FALSE
SUMMARY:Membership & Spike Committee Phonathon!!
DESCRIPTION:Join Membership Committee members as they reach out to potential new MBA Pierce members!  Call lists\, doughnuts and beverages provided!
X-ALT-DESC;FMTTYPE=text/html:Join Membership Committee members as they reach out to potential new MBA Pierce members!&nbsp\; Call lists\, doughnuts and beverages provided!&nbsp\;&nbsp\;
LOCATION:MBA Office 3711 Center Street Tacoma\, WA 98409
UID:e.9280.3542
SEQUENCE:3
DTSTAMP:20260421T140644Z
URL:https://members.masterbuilderspierce.com/events/details/membership-spike-committee-phonathon-3542
END:VEVENT

END:VCALENDAR
