BEGIN:VCALENDAR
VERSION:2.0
PRODID:-//ChamberMaster//Event Calendar 2.0//EN
METHOD:PUBLISH
X-PUBLISHED-TTL:P3D
REFRESH-INTERVAL:P3D
CALSCALE:GREGORIAN
BEGIN:VEVENT
DTSTART:20180712T163000Z
DTEND:20180712T173000Z
X-MICROSOFT-CDO-ALLDAYEVENT:FALSE
SUMMARY:Membership & Spike Committee Meeting
DESCRIPTION:Hope to see you there!
X-ALT-DESC;FMTTYPE=text/html:Hope to see you there!
LOCATION:Gary's VACUFLO 115096 Steele St S. Tacoma\, WA 98444
UID:e.9280.3549
SEQUENCE:3
DTSTAMP:20260421T124206Z
URL:https://members.masterbuilderspierce.com/events/details/membership-spike-committee-meeting-3549
END:VEVENT

END:VCALENDAR
