BEGIN:VCALENDAR
VERSION:2.0
PRODID:-//ChamberMaster//Event Calendar 2.0//EN
METHOD:PUBLISH
X-PUBLISHED-TTL:P3D
REFRESH-INTERVAL:P3D
CALSCALE:GREGORIAN
BEGIN:VEVENT
DTSTART:20161207T230000Z
DTEND:20161208T000000Z
X-MICROSOFT-CDO-ALLDAYEVENT:FALSE
SUMMARY:Membership & Spike Committee Meeting
DESCRIPTION:Please note our meeting date has changed to Wednesday\, December 7th due to our Elected Officials Reception being held during our usual meeting time Thursday\, December 1st.   We will be back on our regular schedule January.  Thank you. Hope to see you there!
X-ALT-DESC;FMTTYPE=text/html:<span style="font-family: Arial\; font-size: 12px\;">Please note our</span><span style="font-family: Arial\; font-size: 12px\;">&nbsp\;meeting date has changed to Wednesday\, December 7th due to our Elected Officials Reception being held during our usual meeting time Thursday\, December 1st. &nbsp\; We will be b</span><span style="font-family: Arial\; font-size: 12px\;">ack</span><span style="font-family: Arial\; font-size: 12px\;">&nbsp\;on our regular schedule</span><span style="font-family: Arial\; font-size: 12px\;">&nbsp\;January. &nbsp\;</span><span style="font-family: Arial\; font-size: 12px\;">Thank you. Hope to see you there!</span><br />\n&nbsp\;
LOCATION:4707 S 19th St #101\, Tacoma\, WA 98405
UID:e.9280.1389
SEQUENCE:3
DTSTAMP:20260422T172812Z
URL:https://members.masterbuilderspierce.com/events/details/membership-spike-committee-meeting-12-01-2016-1389
END:VEVENT

END:VCALENDAR
