BEGIN:VCALENDAR
VERSION:2.0
PRODID:-//ChamberMaster//Event Calendar 2.0//EN
METHOD:PUBLISH
X-PUBLISHED-TTL:P3D
REFRESH-INTERVAL:P3D
CALSCALE:GREGORIAN
BEGIN:VEVENT
DTSTART:20171102T220000Z
DTEND:20171102T230000Z
X-MICROSOFT-CDO-ALLDAYEVENT:FALSE
SUMMARY:Membership & Spike Committee Meeting
DESCRIPTION:Don't miss our MBA Pierce Member Benefits presentation!
X-ALT-DESC;FMTTYPE=text/html:Don&#39\;t miss our MBA Pierce Member Benefits presentation!
LOCATION:MBA Office 3711 Center Street Tacoma\, WA 98409
UID:e.9280.1400
SEQUENCE:3
DTSTAMP:20260422T004518Z
URL:https://members.masterbuilderspierce.com/events/details/membership-spike-committee-meeting-11-02-2017-1400
END:VEVENT

END:VCALENDAR
