BEGIN:VCALENDAR
VERSION:2.0
PRODID:-//ChamberMaster//Event Calendar 2.0//EN
METHOD:PUBLISH
X-PUBLISHED-TTL:P3D
REFRESH-INTERVAL:P3D
CALSCALE:GREGORIAN
BEGIN:VEVENT
DTSTART:20171005T220000Z
DTEND:20171005T230000Z
X-MICROSOFT-CDO-ALLDAYEVENT:FALSE
SUMMARY:Membership & Spike Committee Meeting
DESCRIPTION:This months meeting will feature a retention talk from Patrick Hayes from MBA of King and Snohomish Counties.
X-ALT-DESC;FMTTYPE=text/html:This months meeting will feature a retention talk from Patrick Hayes from MBA of King and Snohomish Counties.&nbsp\;&nbsp\;
LOCATION:MBA Office 3711 Center Street Tacoma\, WA 98409
UID:e.9280.1399
SEQUENCE:3
DTSTAMP:20260422T022116Z
URL:https://members.masterbuilderspierce.com/events/details/membership-spike-committee-meeting-10-05-2017-1399
END:VEVENT

END:VCALENDAR
