BEGIN:VCALENDAR
VERSION:2.0
PRODID:-//ChamberMaster//Event Calendar 2.0//EN
METHOD:PUBLISH
X-PUBLISHED-TTL:P3D
REFRESH-INTERVAL:P3D
CALSCALE:GREGORIAN
BEGIN:VEVENT
DTSTART:20160908T223000Z
DTEND:20160908T233000Z
X-MICROSOFT-CDO-ALLDAYEVENT:FALSE
SUMMARY:Membership & Spike Committee Meeting
DESCRIPTION:Membership & Spike Committee Meeting\n\n\n\nMembership/Retention Agenda\n\nFor 9/8/16\n\n \n\n	Call to order\n	Introductions\n	Approval Minutes to 8/4/16 & 7/21/16 meetings\n\n \n\n\n	Membership Contest   2016 / 2017\n	\n		Review contest - Any other ideas \n		Kick Off October   Contest begins 11/1/16\n		Prize?\n		Sponsorships\n		3:45 PM Team Selection\n	\n	\n\n \n\n\n	NAHB dues increase\n\n \n\n\n	Membership Drives\n	\n		2016   September\n	\n	\n\ni.Discounts\n\nii.Benefits\n\niii.Lists from 2000 leads and others\n\niv.Triple spike credits\n\n	2017   Feb\, May & Sept\n\n \n\n\n	October 18\, 2016 Annual meeting   Membership table?\n\n \n\n\n	Retention\n	\n		Touch Program\n		Retention Calls\n	\n	\n\n \n\n\n	2017 Meet & Greets / Membership Breakfast\n\n \n\n\n	Increase Committee members\n\n \n\n\n	Spike Party\n\n \n\n\n	Good of the Order
X-ALT-DESC;FMTTYPE=text/html:Membership&nbsp\;&amp\; Spike Committee&nbsp\;Meeting<br />\n<br />\nMembership/Retention Agenda<br />\nFor 9/8/16<br />\n&nbsp\;\n<ol style="list-style-type:upper-roman\;">\n	<li>Call to order</li>\n	<li>Introductions</li>\n	<li>Approval Minutes to 8/4/16 &amp\; 7/21/16 meetings</li>\n</ol>\n&nbsp\;\n\n<ol style="list-style-type:upper-roman\;">\n	<li value="4">Membership Contest &ndash\; 2016 / 2017\n	<ol style="list-style-type:lower-alpha\;">\n		<li>Review contest - Any other ideas&nbsp\;</li>\n		<li>Kick Off October &ndash\; Contest begins 11/1/16</li>\n		<li>Prize?</li>\n		<li>Sponsorships</li>\n		<li>3:45 PM Team Selection</li>\n	</ol>\n	</li>\n</ol>\n&nbsp\;\n\n<ol style="list-style-type:upper-roman\;">\n	<li value="5">NAHB dues increase</li>\n</ol>\n&nbsp\;\n\n<ol style="list-style-type:upper-roman\;">\n	<li value="6">Membership Drives\n	<ol style="list-style-type:lower-alpha\;">\n		<li>2016 &ndash\; September</li>\n	</ol>\n	</li>\n</ol>\ni.Discounts<br />\nii.Benefits<br />\niii.Lists from 2000 leads and others<br />\niv.Triple spike credits\n<ol style="list-style-type:lower-alpha\;">\n	<li value="2">2017 &ndash\; Feb\, May &amp\; Sept</li>\n</ol>\n&nbsp\;\n\n<ol style="list-style-type:upper-roman\;">\n	<li value="7">October 18\, 2016 Annual meeting &ndash\; Membership table?</li>\n</ol>\n&nbsp\;\n\n<ol style="list-style-type:upper-roman\;">\n	<li value="8">Retention\n	<ol style="list-style-type:lower-alpha\;">\n		<li>Touch Program</li>\n		<li>Retention Calls</li>\n	</ol>\n	</li>\n</ol>\n&nbsp\;\n\n<ol style="list-style-type:upper-roman\;">\n	<li value="9">2017 Meet &amp\; Greets / Membership Breakfast</li>\n</ol>\n&nbsp\;\n\n<ol style="list-style-type:upper-roman\;">\n	<li value="10">Increase Committee members</li>\n</ol>\n&nbsp\;\n\n<ol style="list-style-type:upper-roman\;">\n	<li value="11">Spike Party</li>\n</ol>\n&nbsp\;\n\n<ol style="list-style-type:upper-roman\;">\n	<li value="12">Good of the Order</li>\n</ol>\n
LOCATION:Katie Downs Waterfront Tavern 3211 Ruston Way\, Tacoma\, WA 98402
UID:e.9280.1379
SEQUENCE:3
DTSTAMP:20260422T215612Z
URL:https://members.masterbuilderspierce.com/events/details/membership-spike-committee-meeting-09-08-2016-1379
END:VEVENT

END:VCALENDAR
