BEGIN:VCALENDAR
VERSION:2.0
PRODID:-//ChamberMaster//Event Calendar 2.0//EN
METHOD:PUBLISH
X-PUBLISHED-TTL:P3D
REFRESH-INTERVAL:P3D
CALSCALE:GREGORIAN
BEGIN:VEVENT
DTSTART:20160804T163000Z
DTEND:20160804T173000Z
X-MICROSOFT-CDO-ALLDAYEVENT:FALSE
SUMMARY:Membership & Spike Committee Meeting
DESCRIPTION:Membership & Spike Committee Monthly Meeting
X-ALT-DESC;FMTTYPE=text/html:Membership &amp\; Spike Committee Monthly Meeting
LOCATION:First American Title 4707 So. 19th St. Ste 101 Tacoma\, WA 98405
UID:e.9280.1370
SEQUENCE:3
DTSTAMP:20260422T231920Z
URL:https://members.masterbuilderspierce.com/events/details/membership-spike-committee-meeting-08-04-2016-1370
END:VEVENT

END:VCALENDAR
