BEGIN:VCALENDAR
VERSION:2.0
PRODID:-//ChamberMaster//Event Calendar 2.0//EN
METHOD:PUBLISH
X-PUBLISHED-TTL:P3D
REFRESH-INTERVAL:P3D
CALSCALE:GREGORIAN
BEGIN:VEVENT
DTSTART:20170504T220000Z
DTEND:20170504T230000Z
X-MICROSOFT-CDO-ALLDAYEVENT:FALSE
SUMMARY:Membership & Spike Committee Meeting
DESCRIPTION:
X-ALT-DESC;FMTTYPE=text/html:
LOCATION:MBA office 3711 Center Street Tacoma\, WA 98405
UID:e.9280.1394
SEQUENCE:3
DTSTAMP:20260422T100735Z
URL:https://members.masterbuilderspierce.com/events/details/membership-spike-committee-meeting-05-04-2017-1394
END:VEVENT

END:VCALENDAR
