BEGIN:VCALENDAR
VERSION:2.0
PRODID:-//ChamberMaster//Event Calendar 2.0//EN
METHOD:PUBLISH
X-PUBLISHED-TTL:P3D
REFRESH-INTERVAL:P3D
CALSCALE:GREGORIAN
BEGIN:VEVENT
DTSTART:20180503T163000Z
DTEND:20180503T173000Z
X-MICROSOFT-CDO-ALLDAYEVENT:FALSE
SUMMARY:Membership & Spike Committee Meeting
DESCRIPTION:Hope you can make it!
X-ALT-DESC;FMTTYPE=text/html:Hope you can make it!
LOCATION:Gary's VACUFLO 115096 Steele St S. Tacoma\, WA 98444
UID:e.9280.1406
SEQUENCE:3
DTSTAMP:20260421T171241Z
URL:https://members.masterbuilderspierce.com/events/details/membership-spike-committee-meeting-05-03-2018-1406
END:VEVENT

END:VCALENDAR
