BEGIN:VCALENDAR
VERSION:2.0
PRODID:-//ChamberMaster//Event Calendar 2.0//EN
METHOD:PUBLISH
X-PUBLISHED-TTL:P3D
REFRESH-INTERVAL:P3D
CALSCALE:GREGORIAN
BEGIN:VEVENT
DTSTART:20170406T210000Z
DTEND:20170406T220000Z
X-MICROSOFT-CDO-ALLDAYEVENT:FALSE
SUMMARY:Membership & Spike Committee Meeting
DESCRIPTION:**Please note new time and location**\n\nThis months meeting will take place at 2:00 pm immediately following the Housing Forum.\n\nHope to see you there!
X-ALT-DESC;FMTTYPE=text/html:**Please note new time and location**<br />\nThis months meeting will take place at 2:00 pm immediately following the Housing Forum.<br />\nHope to see you there!
LOCATION:Pioneer Park Pavilion 330 S. Meridian Puyallup\, WA 98371
UID:e.9280.1393
SEQUENCE:3
DTSTAMP:20260422T112859Z
URL:https://members.masterbuilderspierce.com/events/details/membership-spike-committee-meeting-04-06-2017-1393
END:VEVENT

END:VCALENDAR
