BEGIN:VCALENDAR
VERSION:2.0
PRODID:-//ChamberMaster//Event Calendar 2.0//EN
METHOD:PUBLISH
X-PUBLISHED-TTL:P3D
REFRESH-INTERVAL:P3D
CALSCALE:GREGORIAN
BEGIN:VEVENT
DTSTART:20170302T220000Z
DTEND:20170302T230000Z
X-MICROSOFT-CDO-ALLDAYEVENT:FALSE
SUMMARY:Membership & Spike Committee Meeting
DESCRIPTION:Please note the time and location change.  Meeting will tke place immediately following the Housing Forum.
X-ALT-DESC;FMTTYPE=text/html:Please note the time and location change. &nbsp\;Meeting will tke place immediately following the Housing Forum.
LOCATION:Pioneer Park Pavilion 330 S. Meridian Puyallup\, WA 98371
UID:e.9280.1392
SEQUENCE:3
DTSTAMP:20260422T125148Z
URL:https://members.masterbuilderspierce.com/events/details/membership-spike-committee-meeting-03-02-2017-1392
END:VEVENT

END:VCALENDAR
