BEGIN:VCALENDAR
VERSION:2.0
PRODID:-//ChamberMaster//Event Calendar 2.0//EN
METHOD:PUBLISH
X-PUBLISHED-TTL:P3D
REFRESH-INTERVAL:P3D
CALSCALE:GREGORIAN
BEGIN:VEVENT
DTSTART:20180301T173000Z
DTEND:20180301T183000Z
X-MICROSOFT-CDO-ALLDAYEVENT:FALSE
SUMMARY:Membership & Spike Committee Meeting
DESCRIPTION:
X-ALT-DESC;FMTTYPE=text/html:
LOCATION:Gary's VACUFLO 115096 Steele St S. Tacoma\, WA 98444
UID:e.9280.1404
SEQUENCE:3
DTSTAMP:20260421T195332Z
URL:https://members.masterbuilderspierce.com/events/details/membership-spike-committee-meeting-03-01-2018-1404
END:VEVENT

END:VCALENDAR
