BEGIN:VCALENDAR
VERSION:2.0
PRODID:-//ChamberMaster//Event Calendar 2.0//EN
METHOD:PUBLISH
X-PUBLISHED-TTL:P3D
REFRESH-INTERVAL:P3D
CALSCALE:GREGORIAN
BEGIN:VEVENT
DTSTART:20170105T230000Z
DTEND:20170106T000000Z
X-MICROSOFT-CDO-ALLDAYEVENT:FALSE
SUMMARY:Membership & Spike Committee Meeting
DESCRIPTION:
X-ALT-DESC;FMTTYPE=text/html:
LOCATION:MBA Office 1120 Pacific Ave Tacoma\, WA 98402
UID:e.9280.1390
SEQUENCE:3
DTSTAMP:20260422T171625Z
URL:https://members.masterbuilderspierce.com/events/details/membership-spike-committee-meeting-01-05-2017-1390
END:VEVENT

END:VCALENDAR
