BEGIN:VCALENDAR
VERSION:2.0
PRODID:-//ChamberMaster//Event Calendar 2.0//EN
METHOD:PUBLISH
X-PUBLISHED-TTL:P3D
REFRESH-INTERVAL:P3D
CALSCALE:GREGORIAN
BEGIN:VEVENT
DTSTART:20160525T230000Z
DTEND:20160526T003000Z
X-MICROSOFT-CDO-ALLDAYEVENT:FALSE
SUMMARY:Membership & Spike Club Committee Meeting
DESCRIPTION:Please make a note on your calendars and join us for the first Membership & Spike Club Committee meeting in 2016! Chris Lockhart\, the 2016 Spike Club Chair wants to get started on planning the Spikes Only Party and now is a great time to start! Please join us on Wednesday\, May 25 at 4:00 pm at AAA KARTAK Glass & Closet's office at 3060 96th St S\, Tacoma\, WA 98499.
X-ALT-DESC;FMTTYPE=text/html:Please make a note on your calendars and join us for the first Membership &amp\; Spike Club Committee meeting in 2016! Chris Lockhart\, the 2016 Spike Club Chair wants to get started on planning the Spikes Only Party and now is a great time to start! Please join us on <strong><u><span style="font-size:13.0pt\;">Wednesday\, May 25 at 4:00 pm at AAA KARTAK Glass &amp\; Closet&rsquo\;s office</span></u></strong> at 3060 96<sup>th</sup> St S\, Tacoma\, WA 98499.<br />\n&nbsp\;
LOCATION:AAA KARTAK Glass & Closet 3060 96th St S Tacoma\, WA 98499
UID:e.9280.1365
SEQUENCE:3
DTSTAMP:20260423T041114Z
URL:https://members.masterbuilderspierce.com/events/details/membership-spike-club-committee-meeting-05-25-2016-1365
END:VEVENT

END:VCALENDAR
