BEGIN:VCALENDAR
VERSION:2.0
PRODID:-//ChamberMaster//Event Calendar 2.0//EN
METHOD:PUBLISH
X-PUBLISHED-TTL:P3D
REFRESH-INTERVAL:P3D
CALSCALE:GREGORIAN
BEGIN:VEVENT
DTSTART:20160621T223000Z
DTEND:20160621T233000Z
X-MICROSOFT-CDO-ALLDAYEVENT:FALSE
SUMMARY:Membership & PR Committee Meeting
DESCRIPTION:Membership Committee and PR Committee are combining forces for their June meetings to re-energize both committees and work together on some great projects for MBA Pierce! Interested in getting involved in one (or more) of the most fun committees at MBA? Come find out what both committees are about at this meeting AND then join the committees for Happy Hour up at Steel Creek American Whiskey after the meeting! Drinks are on us!
X-ALT-DESC;FMTTYPE=text/html:Membership Committee and PR Committee are combining forces for their June meetings to re-energize both committees and work together on some great projects for MBA Pierce! Interested in getting involved in one (or more) of the most fun committees at MBA? Come find out what both committees are about at this meeting AND then join the committees for Happy Hour up at Steel Creek American Whiskey after the meeting! Drinks are on us!
LOCATION:MBA Pierce 1120 Pacific Ave\, Ste 301 Tacoma\, WA 98402
UID:e.9280.1367
SEQUENCE:3
DTSTAMP:20260423T023305Z
URL:https://members.masterbuilderspierce.com/events/details/membership-pr-committee-meeting-06-21-2016-1367
END:VEVENT

END:VCALENDAR
