BEGIN:VCALENDAR
VERSION:2.0
PRODID:-//ChamberMaster//Event Calendar 2.0//EN
METHOD:PUBLISH
X-PUBLISHED-TTL:P3D
REFRESH-INTERVAL:P3D
CALSCALE:GREGORIAN
BEGIN:VEVENT
DTSTART:20160621T233000Z
DTEND:20160622T003000Z
X-MICROSOFT-CDO-ALLDAYEVENT:FALSE
SUMMARY:Membership & PR Committee Happy Hour
DESCRIPTION:Attend the Membership & PR Committees combined meeting at the MBA office at 3:30 and then join us for Happy Hour at Steel Creek American Whiskey Company!
X-ALT-DESC;FMTTYPE=text/html:Attend the Membership &amp\; PR Committees combined meeting at the MBA office at 3:30 and then join us for Happy Hour at Steel Creek American Whiskey Company!&nbsp\; &nbsp\;
LOCATION:Steel Creek American Whiskey Company\, Tacoma
UID:e.9280.1368
SEQUENCE:3
DTSTAMP:20260423T023842Z
URL:https://members.masterbuilderspierce.com/events/details/membership-pr-committee-happy-hour-06-21-2016-1368
END:VEVENT

END:VCALENDAR
