BEGIN:VCALENDAR
VERSION:2.0
PRODID:-//ChamberMaster//Event Calendar 2.0//EN
METHOD:PUBLISH
X-PUBLISHED-TTL:P3D
REFRESH-INTERVAL:P3D
CALSCALE:GREGORIAN
BEGIN:VEVENT
DTSTART:20190628T000000Z
DTEND:20190628T020000Z
X-MICROSOFT-CDO-ALLDAYEVENT:FALSE
SUMMARY:Membership Meet and Greet & Retro Check Distribution
DESCRIPTION:Join us for the MBA Pierce Meet & Greet and Retro Check Distribution presented by Century Insurance Services! This casual night of networking at Harmon Tap Room features light appetizers and drinks -- We encourage both new and existing members to attend! This year we will be distributing GRIP retro checks at this event. Not only are we celebrating refunds\, it's an opportunity for new members to make connections with other members. It's free to attend but registration is required. MBA Pierce will provide two drink tickets per attendee.
X-ALT-DESC;FMTTYPE=text/html:<p>Join us for the&nbsp\;MBA Pierce Meet &amp\; Greet and Retro Check Distribution presented by Century Insurance Services! This casual night of networking at Harmon Tap Room features light appetizers and drinks -- We encourage both new and existing members to attend! <u><strong>This year we will be distributing GRIP retro checks at this event.</strong></u> Not only are we celebrating&nbsp\;refunds\, it&#39\;s an opportunity for new members to make connections with other members. It&#39\;s free to attend but <em>registration is required</em>. MBA Pierce will provide two drink tickets per attendee.&nbsp\;</p>\n
LOCATION:Harmon Tap Room 204 St. Helens Ave S Tacoma\, WA 98402
UID:e.9280.3960
SEQUENCE:3
DTSTAMP:20260421T124207Z
URL:https://members.masterbuilderspierce.com/events/details/membership-meet-and-greet-retro-check-distribution-3960
END:VEVENT

END:VCALENDAR
