BEGIN:VCALENDAR
VERSION:2.0
PRODID:-//ChamberMaster//Event Calendar 2.0//EN
METHOD:PUBLISH
X-PUBLISHED-TTL:P3D
REFRESH-INTERVAL:P3D
CALSCALE:GREGORIAN
BEGIN:VEVENT
DTSTART:20190926T200000Z
DTEND:20190926T230000Z
X-MICROSOFT-CDO-ALLDAYEVENT:FALSE
SUMMARY:Membership Lunch and Recruitment
DESCRIPTION:Please join us for another fun lunch at Hammond Knoll in Tacoma! We will be enjoying food and beverage before we make recruitment calls.
X-ALT-DESC;FMTTYPE=text/html:Please join us for another fun lunch at Hammond Knoll in Tacoma! We will be enjoying food and beverage before we make recruitment calls.&nbsp\;&nbsp\;&nbsp\;&nbsp\;&nbsp\;&nbsp\;&nbsp\;&nbsp\;&nbsp\;<br />\n<br />\n&nbsp\;
LOCATION:Hammond Knoll 3320 South G Street Tacoma\, WA 98418 800-499-9686
UID:e.9280.3987
SEQUENCE:3
DTSTAMP:20260421T101116Z
URL:https://members.masterbuilderspierce.com/events/details/membership-lunch-and-recruitment-3987
END:VEVENT

END:VCALENDAR
