BEGIN:VCALENDAR
VERSION:2.0
PRODID:-//ChamberMaster//Event Calendar 2.0//EN
METHOD:PUBLISH
X-PUBLISHED-TTL:P3D
REFRESH-INTERVAL:P3D
CALSCALE:GREGORIAN
BEGIN:VEVENT
DTSTART:20191017T200000Z
DTEND:20191017T220000Z
X-MICROSOFT-CDO-ALLDAYEVENT:FALSE
SUMMARY:Membership Lunch and Prospect Call-a-thon
DESCRIPTION:Please join us at MBA Pierce for another fun lunch and membership prospect call-a-thon. We will be enjoying food and beverage before we make recruitment calls. This is another opportunity to recruit five new members\, and get a free trip to the IBS Show in Vegas.
X-ALT-DESC;FMTTYPE=text/html:Please join us at MBA Pierce for another fun lunch and membership prospect call-a-thon. We will be enjoying food and beverage before we make recruitment calls. This is another opportunity to recruit five new members\, and get a free trip to the IBS Show in Vegas.&nbsp\;<br />\n<br />\n&nbsp\;
LOCATION:MBA Pierce Office 3711 Center Street Tacoma\, WA 98409
UID:e.9280.4004
SEQUENCE:3
DTSTAMP:20260419T123553Z
URL:https://members.masterbuilderspierce.com/events/details/membership-lunch-and-prospect-call-a-thon-4004
END:VEVENT

END:VCALENDAR
