BEGIN:VCALENDAR
VERSION:2.0
PRODID:-//ChamberMaster//Event Calendar 2.0//EN
METHOD:PUBLISH
X-PUBLISHED-TTL:P3D
REFRESH-INTERVAL:P3D
CALSCALE:GREGORIAN
BEGIN:VEVENT
DTSTART:20180524T203000Z
DTEND:20180524T213000Z
X-MICROSOFT-CDO-ALLDAYEVENT:FALSE
SUMMARY:Membership Back to Basics-Facilitated Training from NAHB
DESCRIPTION:An overview of recruitment and retention fundamentals.  Whether this information is new to you\, or a refresher of what you've been doing for years\, NAHB will facilitate a back to basics discussion with the Membership Committee.  This will also include discussion on setting the groundwork to develop a foundational membership strategy and putting us on a path towards more effective recruitment efforts.  Hope to see you!
X-ALT-DESC;FMTTYPE=text/html:An overview of recruitment and retention fundamentals.&nbsp\; Whether this information is new to you\, or a refresher of what you&#39\;ve been doing for years\, NAHB will facilitate a back to basics discussion with the Membership Committee.&nbsp\; This will also include discussion on setting the groundwork to develop a foundational membership strategy and putting us on a path towards more effective recruitment efforts.&nbsp\; Hope to see you!
LOCATION:MBA Office 3711 Center Street Tacoma\, WA 98409
UID:e.9280.3541
SEQUENCE:3
DTSTAMP:20260421T171111Z
URL:https://members.masterbuilderspierce.com/events/details/membership-back-to-basics-facilitated-training-from-nahb-3541
END:VEVENT

END:VCALENDAR
