BEGIN:VCALENDAR
VERSION:2.0
PRODID:-//ChamberMaster//Event Calendar 2.0//EN
METHOD:PUBLISH
X-PUBLISHED-TTL:P3D
REFRESH-INTERVAL:P3D
CALSCALE:GREGORIAN
BEGIN:VEVENT
DTSTART:20180328T233000Z
DTEND:20180329T010000Z
X-MICROSOFT-CDO-ALLDAYEVENT:FALSE
SUMMARY:Member Meet & Greet
DESCRIPTION:Attention new members!  Please join us for appetizers and a complimentary beverage!  Meet and mingle with fellow MBA Members\, the Membership Committee\, and other new recruits in a casual and welcoming setting.
X-ALT-DESC;FMTTYPE=text/html:Attention new members! &nbsp\;Please join us for appetizers and a complimentary beverage! &nbsp\;Meet and mingle with fellow MBA Members\, the Membership Committee\, and other new recruits in a casual and welcoming setting.&nbsp\;&nbsp\;
LOCATION:Seven Seas Brewery 2101 Jefferson Ave Tacoma\, WA 98402
UID:e.9280.2373
SEQUENCE:3
DTSTAMP:20260421T195102Z
URL:https://members.masterbuilderspierce.com/events/details/member-meet-greet-2373
END:VEVENT

END:VCALENDAR
