BEGIN:VCALENDAR
VERSION:2.0
PRODID:-//ChamberMaster//Event Calendar 2.0//EN
METHOD:PUBLISH
X-PUBLISHED-TTL:P3D
REFRESH-INTERVAL:P3D
CALSCALE:GREGORIAN
BEGIN:VEVENT
DTSTART:20170823T170000Z
DTEND:20170823T210000Z
X-MICROSOFT-CDO-ALLDAYEVENT:FALSE
SUMMARY:Member Event: The Bold Experience at Water Concepts
DESCRIPTION:You're invited to see The Bold Experience at Water Concepts Kitchen & Bath Showroom. Check-out world-class products from Kohler featuring performance showering and toilet innovations. \n\n\n\nThere will be food and raffle prizes!
X-ALT-DESC;FMTTYPE=text/html:You&#39\;re invited to see <em>The Bold Experience&nbsp\;</em>at Water Concepts Kitchen &amp\; Bath Showroom. Check-out world-class products from Kohler featuring performance showering and toilet innovations.&nbsp\;<br />\n<br />\nThere will be food and raffle prizes!&nbsp\;
LOCATION:Water Concepts Kitchen & Bath 3505 South Tacoma Way Tacoma\, WA 98409
UID:e.9280.2026
SEQUENCE:3
DTSTAMP:20260422T053257Z
URL:https://members.masterbuilderspierce.com/events/details/member-event-the-bold-experience-at-water-concepts-2026
END:VEVENT

END:VCALENDAR
