BEGIN:VCALENDAR
VERSION:2.0
PRODID:-//ChamberMaster//Event Calendar 2.0//EN
METHOD:PUBLISH
X-PUBLISHED-TTL:P3D
REFRESH-INTERVAL:P3D
CALSCALE:GREGORIAN
BEGIN:VEVENT
DTSTART:20160413T000000Z
DTEND:20160413T003000Z
X-MICROSOFT-CDO-ALLDAYEVENT:FALSE
SUMMARY:MBAPC Affordable Housing Council
DESCRIPTION:
X-ALT-DESC;FMTTYPE=text/html:
LOCATION:MBA Pierce Office 1120 Pacific Ave\, Ste 301 Tacoma\, WA 98402
UID:e.9280.1345
SEQUENCE:3
DTSTAMP:20260423T054221Z
URL:https://members.masterbuilderspierce.com/events/details/mbapc-affordable-housing-council-04-12-2016-1345
END:VEVENT

END:VCALENDAR
