BEGIN:VCALENDAR
VERSION:2.0
PRODID:-//ChamberMaster//Event Calendar 2.0//EN
METHOD:PUBLISH
X-PUBLISHED-TTL:P3D
REFRESH-INTERVAL:P3D
CALSCALE:GREGORIAN
BEGIN:VEVENT
DTSTART:20140715T190000Z
DTEND:20140715T190000Z
X-MICROSOFT-CDO-ALLDAYEVENT:FALSE
SUMMARY:MBA Pierce Family Fun Day + Retro Check Celebration
DESCRIPTION:
X-ALT-DESC;FMTTYPE=text/html:
LOCATION:811 168th St E Spanaway\, WA 98387
UID:e.9280.34
SEQUENCE:3
DTSTAMP:20260424T154518Z
URL:https://members.masterbuilderspierce.com/events/details/mba-pierce-family-fun-day-retro-check-celebration-07-15-2014-34
END:VEVENT

END:VCALENDAR
