BEGIN:VCALENDAR
VERSION:2.0
PRODID:-//ChamberMaster//Event Calendar 2.0//EN
METHOD:PUBLISH
X-PUBLISHED-TTL:P3D
REFRESH-INTERVAL:P3D
CALSCALE:GREGORIAN
BEGIN:VEVENT
DTSTART:20180707T190000Z
DTEND:20180707T220000Z
X-MICROSOFT-CDO-ALLDAYEVENT:FALSE
SUMMARY:MBA Pierce Builders Group 2018 Family Fun Day & Retro Check Distribution presented by AAA KARTAK Glass & Closet Corp
DESCRIPTION:All MBA Pierce Members\, their employees and families are invited to attend the MBA Pierce Builders Group 2018 Family Fun Day & Retro Check Distribution presented by AAA KARTAK Glass & Closet Corp.  Come enjoy free BBQ\, drinks\, vintage train rides\, a giant slide\, obstacle course\, airbrush painting\, a photo booth and more.  Bring your employees  and their families and make this your company picnic!\n\n\n\n\n\nPARK IN THE PURPLE PARKING LOT at the Washington State Fairgrounds.  \n\n\n\nRegistration closes July 5\, 2018.\n\nIf you are registering more than 5 Family Packs\, you can submit your registration order to scox@mbapierce.com.\n\n\n\nThis will also be the first opportunity for members to pick up their Retro Checks from GRIP and ROII.  Participating GRIP and ROII members receive 1 Adult Single Ticket for free.
X-ALT-DESC;FMTTYPE=text/html:<span style="font-family: arial\;"><span style="font-size: 12px\;">All MBA Pierce Members\, their employees and families are invited to attend the MBA Pierce Builders Group 2018 Family Fun Day &amp\; Retro Check Distribution presented by AAA KARTAK Glass &amp\; Closet Corp.&nbsp\; Come enjoy free BBQ\, drinks\, vintage train rides\, a giant slide\, obstacle course\, airbrush painting\, a photo booth&nbsp\;and more.&nbsp\; <strong><span style="color: rgb(255\, 0\, 0)\;"><u>Bring your employees&nbsp\; and their families and make this your company picnic!</u></span></strong><br />\n<br />\n<br />\n<strong><span style="font-size: 16px\;"><u>PARK IN THE PURPLE PARKING LOT </u></span>at the Washington State Fairgrounds.&nbsp\; </strong></span></span><br />\n<br />\n<span style="font-family: arial\;"><span style="font-size: 18px\;"><strong><u><span style="font-size: 12px\;">Registration closes July 5\, 2018.</span></u></strong></span><br />\n<span style="font-size: 12px\;"><em><span style="color: rgb(0\, 0\, 0)\;">If you are registering more than 5 Family Packs\, you can submit your registration order to scox</span><a href="mailto:jlafranca@mbapierce.com"><span style="color: rgb(0\, 0\, 0)\;">@mbapierce.com</span></a><span style="color: rgb(0\, 0\, 0)\;">.</span></em><br />\n<br />\nThis will also be the first opportunity for members to pick up their Retro Checks from GRIP and ROII.&nbsp\; <strong><span style="color: rgb(255\, 0\, 0)\;">Participating GRIP and ROII members receive 1 Adult Single Ticket for free.&nbsp\;</span></strong></span></span><br />\n<br />\n<br />\n&nbsp\;
LOCATION:Washington State Fairgrounds-SillyVille 110 9th Ave SW\, Puyallup\, WA 98371 (Park in the PURPLE PARKING LOT)
UID:e.9280.2386
SEQUENCE:3
DTSTAMP:20260421T124712Z
URL:https://members.masterbuilderspierce.com/events/details/mba-pierce-builders-group-2018-family-fun-day-retro-check-distribution-presented-by-aaa-kartak-glass-closet-corp-2386
END:VEVENT

END:VCALENDAR
