BEGIN:VCALENDAR
VERSION:2.0
PRODID:-//ChamberMaster//Event Calendar 2.0//EN
METHOD:PUBLISH
X-PUBLISHED-TTL:P3D
REFRESH-INTERVAL:P3D
CALSCALE:GREGORIAN
BEGIN:VEVENT
DTSTART:20160709T180000Z
DTEND:20160709T220000Z
X-MICROSOFT-CDO-ALLDAYEVENT:FALSE
SUMMARY:MBA Pierce 2016 Family Fun Day & Retro Check Distribution presented by AAA KARTAK Glass & Closet Corp.
DESCRIPTION:All MBA Pierce Members\, their employees and families are invited to attend the MBA Pierce 2016 Family Fun Day & Retro Check Distribution presented by AAA KARTAK Glass & Closet Corp.  Come enjoy free BBQ\, drinks\, vintage train rides\, a giant slide\, bounce house\, airbrush painting\, a photo booth and more!!\n\nFree parking available in the Purple Parking Lot at the Washington State Fairgrounds.  \n\n\n\nNOW EXTENDED--EARLY BIRD DISCOUNT: The first 400 people who register by July 8\, 2016 will receive a discount:\n\n                                                            Early Bird Price                            Regular Price\n\nFamily Pack tickets:                            $20                                                   $45\n\n     ***Choose for 3-4 attendees. No more than 2 adults (ages 17+) per Family Pack.\n\nAdult Single Ticket:                           $10                                                    $15\n\nChild Single Ticket (Ages 5-17):        $5                                                      $10\n\n**Children under the age of 5 are FREE and do not need to be registered\n\n\n\n***Early Bird pricing will show at the time of checkout.***  \n\nRegistration closes July 8\, 2016.\n\nIf you are registering more than 5 Family Packs\, you can submit your registration order to jlafranca@mbapierce.com.\n\n\n\nThis will also be the first opportunity for members to pick up their Retro Checks from GRIP and ROII.  Participating GRIP and ROII members receive 1 Adult Single Ticket for free. \n\n\n\n\n\nThank you to our generous sponsors:\n\nPresenting Sponsor:\n\n       - AAA KARTAK Glass & Closet Corp.\n\nAttraction Sponsors: \n\n       - Century Insurance Services LLC\n\n       - JamesHardie Building Products\n\n       - Land Home Financial Services\n\n       - Sager Family Homes Inc.\n\n       - Quietwood Homes LLC\n\nBeverage Sponsor:\n\n       - Gray Lumber Company\n\nSupporting Sponsor:\n\n       - Lakewood Ford
X-ALT-DESC;FMTTYPE=text/html:<span style="font-family: arial\;"><span style="font-size: 12px\;">All MBA Pierce Members\, their employees and families are invited to attend the MBA Pierce 2016 Family Fun Day &amp\; Retro Check Distribution presented by AAA KARTAK Glass &amp\; Closet Corp.&nbsp\; Come enjoy free BBQ\, drinks\, vintage train rides\, a giant slide\, bounce house\, airbrush painting\, a photo booth&nbsp\;and more!!<br />\n<strong>Free parking available in the Purple Parking Lot at the Washington State Fairgrounds.&nbsp\; </strong></span><br />\n<br />\n<strong><span style="color: rgb(255\, 0\, 0)\;"><u><span style="font-size: 18px\;">NOW EXTENDED--EARLY BIRD DISCOUNT</span></u></span>: <span style="font-size: 12px\;"><span style="color: rgb(255\, 0\, 0)\;">The first 400 people who register by July 8\, 2016&nbsp\;will receive a discount:</span></span></strong><br />\n<span style="font-size: 12px\;">&nbsp\;&nbsp\;&nbsp\;&nbsp\;&nbsp\;&nbsp\;&nbsp\;&nbsp\;&nbsp\;&nbsp\;&nbsp\;&nbsp\;&nbsp\;&nbsp\;&nbsp\;&nbsp\;&nbsp\;&nbsp\;&nbsp\;&nbsp\;&nbsp\;&nbsp\;&nbsp\;&nbsp\;&nbsp\;&nbsp\;&nbsp\;&nbsp\;&nbsp\;&nbsp\;&nbsp\;&nbsp\;&nbsp\;&nbsp\;&nbsp\;&nbsp\;&nbsp\;&nbsp\;&nbsp\;&nbsp\;&nbsp\;&nbsp\;&nbsp\;&nbsp\;&nbsp\;&nbsp\;&nbsp\;&nbsp\;&nbsp\;&nbsp\;&nbsp\;&nbsp\;&nbsp\;&nbsp\;&nbsp\;&nbsp\;&nbsp\;&nbsp\;&nbsp\;&nbsp\;<strong><u>Early Bird Price</u></strong>&nbsp\;&nbsp\;&nbsp\;&nbsp\;&nbsp\;&nbsp\;&nbsp\;&nbsp\;&nbsp\;&nbsp\;&nbsp\;&nbsp\;&nbsp\;&nbsp\;&nbsp\;&nbsp\;&nbsp\;&nbsp\;&nbsp\;&nbsp\;&nbsp\;&nbsp\;&nbsp\;&nbsp\;&nbsp\;&nbsp\;&nbsp\;&nbsp\;<strong><u>Regular Price</u><br />\nFamily Pack tickets:</strong>&nbsp\;&nbsp\;&nbsp\;&nbsp\;&nbsp\;&nbsp\;&nbsp\;&nbsp\;&nbsp\;&nbsp\;&nbsp\;&nbsp\;&nbsp\;&nbsp\;&nbsp\;&nbsp\;&nbsp\;&nbsp\;&nbsp\;&nbsp\;&nbsp\;&nbsp\;&nbsp\;&nbsp\;&nbsp\;&nbsp\;&nbsp\;&nbsp\;$20&nbsp\;&nbsp\;&nbsp\;&nbsp\;&nbsp\;&nbsp\;&nbsp\;&nbsp\;&nbsp\;&nbsp\;&nbsp\;&nbsp\;&nbsp\;&nbsp\;&nbsp\;&nbsp\;&nbsp\;&nbsp\;&nbsp\;&nbsp\;&nbsp\;&nbsp\;&nbsp\;&nbsp\;&nbsp\;&nbsp\;&nbsp\;&nbsp\;&nbsp\;&nbsp\;&nbsp\;&nbsp\;&nbsp\;&nbsp\;&nbsp\;&nbsp\;&nbsp\;&nbsp\;&nbsp\;&nbsp\;&nbsp\;&nbsp\;&nbsp\;&nbsp\;&nbsp\;&nbsp\;&nbsp\;&nbsp\;&nbsp\;&nbsp\;&nbsp\;$45<br />\n&nbsp\;&nbsp\;&nbsp\;&nbsp\;&nbsp\;***Choose for 3-4 attendees. No more than 2 adults (ages 17+) per Family Pack.<br />\n<strong>Adult Single Ticket</strong>:&nbsp\;&nbsp\;&nbsp\;&nbsp\;&nbsp\;&nbsp\;&nbsp\;&nbsp\;&nbsp\;</span></span>&nbsp\;&nbsp\;&nbsp\;&nbsp\;&nbsp\;&nbsp\;&nbsp\;&nbsp\;&nbsp\;&nbsp\;&nbsp\;&nbsp\;&nbsp\;&nbsp\;&nbsp\;&nbsp\;&nbsp\;&nbsp\;<span style="font-family: arial\;"><span style="font-size: 12px\;">$10&nbsp\;&nbsp\;&nbsp\;&nbsp\;&nbsp\;&nbsp\;&nbsp\;&nbsp\;&nbsp\;&nbsp\;&nbsp\;&nbsp\;&nbsp\;&nbsp\;&nbsp\;&nbsp\;&nbsp\;&nbsp\;&nbsp\;&nbsp\;&nbsp\;&nbsp\;&nbsp\;&nbsp\;&nbsp\;&nbsp\;&nbsp\;&nbsp\;&nbsp\;&nbsp\;&nbsp\;&nbsp\;&nbsp\;&nbsp\;&nbsp\;&nbsp\;&nbsp\;&nbsp\;&nbsp\;&nbsp\;&nbsp\;&nbsp\;&nbsp\;&nbsp\;&nbsp\;&nbsp\;&nbsp\;&nbsp\;&nbsp\;&nbsp\;&nbsp\;&nbsp\;$15<br />\n<strong>Child Single Ticket (Ages 5-17)</strong>:&nbsp\;&nbsp\;&nbsp\;&nbsp\;&nbsp\;&nbsp\;&nbsp\;&nbsp\;$5&nbsp\;&nbsp\;&nbsp\;&nbsp\;&nbsp\;&nbsp\;&nbsp\;&nbsp\;&nbsp\;&nbsp\;&nbsp\;&nbsp\;&nbsp\;&nbsp\;&nbsp\;&nbsp\;&nbsp\;&nbsp\;&nbsp\;&nbsp\;&nbsp\;&nbsp\;&nbsp\;&nbsp\;&nbsp\;&nbsp\;&nbsp\;&nbsp\;&nbsp\;&nbsp\;&nbsp\;&nbsp\;&nbsp\;&nbsp\;&nbsp\;&nbsp\;&nbsp\;&nbsp\;&nbsp\;&nbsp\;&nbsp\;&nbsp\;&nbsp\;&nbsp\;&nbsp\;&nbsp\;&nbsp\;&nbsp\;&nbsp\;&nbsp\;&nbsp\;&nbsp\;&nbsp\;&nbsp\;$10<br />\n<strong>**Children under the age of 5 are FREE and do not need to be registered</strong></span><br />\n<br />\n<span style="font-size: 18px\;"><strong><u><span style="color: rgb(255\, 0\, 0)\;">***Early Bird pricing will show at the time of checkout.***&nbsp\; </span><br />\n<span style="font-size: 12px\;">Registration closes July 8\, 2016.</span></u></strong></span><br />\n<span style="font-size: 12px\;"><em><span style="color: rgb(0\, 0\, 0)\;">If you are registering more than 5 Family Packs\, you can submit your registration order to </span><a href="mailto:jlafranca@mbapierce.com"><span style="color: rgb(0\, 0\, 0)\;">jlafranca@mbapierce.com</span></a><span style="color: rgb(0\, 0\, 0)\;">.</span></em><br />\n<br />\nThis will also be the first opportunity for members to pick up their Retro Checks from GRIP and ROII.&nbsp\; <strong><span style="color: rgb(255\, 0\, 0)\;">Participating GRIP and ROII members receive 1 Adult Single Ticket for free.&nbsp\;</span></strong><br />\n<br />\n<br />\n<strong>Thank you to our generous sponsors:<br />\nPresenting Sponsor:<br />\n&nbsp\;&nbsp\;&nbsp\;&nbsp\;</strong>&nbsp\;&nbsp\; - AAA KARTAK Glass &amp\; Closet Corp.<br />\n<strong>Attraction Sponsors:&nbsp\;</strong><br />\n&nbsp\;&nbsp\;&nbsp\;&nbsp\;&nbsp\;&nbsp\; - Century Insurance Services LLC<br />\n&nbsp\;&nbsp\;&nbsp\;&nbsp\;&nbsp\;&nbsp\; - JamesHardie Building Products<br />\n&nbsp\;&nbsp\;&nbsp\;&nbsp\;&nbsp\;&nbsp\; - Land Home Financial Services<br />\n&nbsp\;&nbsp\;&nbsp\;&nbsp\;&nbsp\;&nbsp\; - Sager Family Homes Inc.<br />\n&nbsp\;&nbsp\;&nbsp\;&nbsp\;&nbsp\;&nbsp\; - Quietwood Homes LLC<br />\n<strong>Beverage Sponsor:<br />\n&nbsp\;&nbsp\;&nbsp\;&nbsp\;&nbsp\;&nbsp\; - </strong>Gray Lumber Company<br />\n<strong>Supporting Sponsor:<br />\n&nbsp\;&nbsp\;&nbsp\;&nbsp\;&nbsp\;&nbsp\; - </strong>Lakewood Ford</span></span>
LOCATION:Washington State Fairgrounds-SillyVille 110 9th Ave SW\, Puyallup\, WA 98371 (free parking in the Purple Parking Lot)
UID:e.9280.1363
SEQUENCE:3
DTSTAMP:20260423T023454Z
URL:https://members.masterbuilderspierce.com/events/details/mba-pierce-2016-family-fun-day-retro-check-distribution-presented-by-aaa-kartak-glass-closet-corp-07-09-2016-1363
END:VEVENT

END:VCALENDAR
