BEGIN:VCALENDAR
VERSION:2.0
PRODID:-//ChamberMaster//Event Calendar 2.0//EN
METHOD:PUBLISH
X-PUBLISHED-TTL:P3D
REFRESH-INTERVAL:P3D
CALSCALE:GREGORIAN
BEGIN:VEVENT
DTSTART:20180518T183000Z
DTEND:20180518T200000Z
X-MICROSOFT-CDO-ALLDAYEVENT:FALSE
SUMMARY:MBA Permit Process Training
DESCRIPTION:Please join us to hear Jeff Rowe discuss the Pierce County Permitting Process. Lunch will be provided.\n\n\n\nWe would like to thank our sponsors AAA KARTAK Glass & Closet Corp and Puget Sound Energy!
X-ALT-DESC;FMTTYPE=text/html:Please join us to hear Jeff Rowe discuss the Pierce County Permitting Process. Lunch will be provided.<br />\n<br />\nWe would like to thank our sponsors AAA KARTAK&nbsp\;Glass &amp\; Closet Corp&nbsp\;and Puget Sound Energy!
LOCATION:MBA Office 3711 Center St Tacoma\, WA 98409
UID:e.9280.3397
SEQUENCE:3
DTSTAMP:20260421T152730Z
URL:https://members.masterbuilderspierce.com/events/details/mba-permit-process-training-3397
END:VEVENT

END:VCALENDAR
