BEGIN:VCALENDAR
VERSION:2.0
PRODID:-//ChamberMaster//Event Calendar 2.0//EN
METHOD:PUBLISH
X-PUBLISHED-TTL:P3D
REFRESH-INTERVAL:P3D
CALSCALE:GREGORIAN
BEGIN:VEVENT
DTSTART:20170720T233000Z
DTEND:20170721T010000Z
X-MICROSOFT-CDO-ALLDAYEVENT:FALSE
SUMMARY:MBA New Member Meet & Greet
DESCRIPTION:Attention new members!  Please join us for appetizers and a complimentary beverage!  Meet and mingle with fellow MBA Members and meet other new recruits in a casual and welcoming setting.
X-ALT-DESC;FMTTYPE=text/html:Attention new members! &nbsp\;Please join us for appetizers and a complimentary beverage! &nbsp\;Meet and mingle with fellow MBA Members and meet other new recruits in a casual and welcoming setting. &nbsp\;
LOCATION:Chambers Bay Grill 6320 Grandview Dr W\, University Place\, WA 98467 (253) 460-4653
UID:e.9280.2020
SEQUENCE:3
DTSTAMP:20260422T065959Z
URL:https://members.masterbuilderspierce.com/events/details/mba-new-member-meet-greet-2020
END:VEVENT

END:VCALENDAR
