BEGIN:VCALENDAR
VERSION:2.0
PRODID:-//ChamberMaster//Event Calendar 2.0//EN
METHOD:PUBLISH
X-PUBLISHED-TTL:P3D
REFRESH-INTERVAL:P3D
CALSCALE:GREGORIAN
BEGIN:VEVENT
DTSTART:20170420T230000Z
DTEND:20170421T003000Z
X-MICROSOFT-CDO-ALLDAYEVENT:FALSE
SUMMARY:MBA New Member Meet & Greet
DESCRIPTION:Attention new members!  Please join us for appetizers and a complimentary beverage!  Meet and mingle with fellow MBA Members and meet other new recruits in a casual and welcoming setting.
X-ALT-DESC;FMTTYPE=text/html:Attention new members! &nbsp\;Please join us for appetizers and a complimentary beverage! &nbsp\;Meet and mingle with fellow MBA Members and meet other new recruits in a casual and welcoming setting. &nbsp\;
LOCATION:The Rock Wood Fired Kitchen 4301 S Meridian Puyallup\, WA 98373
UID:e.9280.2001
SEQUENCE:3
DTSTAMP:20260422T112929Z
URL:https://members.masterbuilderspierce.com/events/details/mba-new-member-meet-greet-2001
END:VEVENT

END:VCALENDAR
