BEGIN:VCALENDAR
VERSION:2.0
PRODID:-//ChamberMaster//Event Calendar 2.0//EN
METHOD:PUBLISH
X-PUBLISHED-TTL:P3D
REFRESH-INTERVAL:P3D
CALSCALE:GREGORIAN
BEGIN:VEVENT
DTSTART:20141204T200000Z
DTEND:20141204T200000Z
X-MICROSOFT-CDO-ALLDAYEVENT:FALSE
SUMMARY:MBA Elected Officials Reception
DESCRIPTION:
X-ALT-DESC;FMTTYPE=text/html:
LOCATION:1120 Pacific Avenue Suite 301 Tacoma\, WA 98402
UID:e.9280.32
SEQUENCE:3
DTSTAMP:20260424T071247Z
URL:https://members.masterbuilderspierce.com/events/details/mba-elected-officials-reception-12-04-2014-32
END:VEVENT

END:VCALENDAR
