BEGIN:VCALENDAR
VERSION:2.0
PRODID:-//ChamberMaster//Event Calendar 2.0//EN
METHOD:PUBLISH
X-PUBLISHED-TTL:P3D
REFRESH-INTERVAL:P3D
CALSCALE:GREGORIAN
BEGIN:VEVENT
DTSTART:20180504T140000Z
DTEND:20180504T150000Z
X-MICROSOFT-CDO-ALLDAYEVENT:FALSE
SUMMARY:MBA Development Officials' Forum meeting
DESCRIPTION:MBA Development Officials' Forum Meeting
X-ALT-DESC;FMTTYPE=text/html:MBA Development Officials&#39\; Forum Meeting&nbsp\;&nbsp\;&nbsp\;&nbsp\;&nbsp\;&nbsp\;&nbsp\;&nbsp\;&nbsp\;&nbsp\;&nbsp\;
LOCATION:Bonney Lake City Hall 9002 Main St E Bonney Lake\, WA 98391
UID:e.9280.3393
SEQUENCE:3
DTSTAMP:20260421T152946Z
URL:https://members.masterbuilderspierce.com/events/details/mba-development-officials-forum-meeting-3393
END:VEVENT

END:VCALENDAR
