BEGIN:VCALENDAR
VERSION:2.0
PRODID:-//ChamberMaster//Event Calendar 2.0//EN
METHOD:PUBLISH
X-PUBLISHED-TTL:P3D
REFRESH-INTERVAL:P3D
CALSCALE:GREGORIAN
BEGIN:VEVENT
DTSTART:20180202T150000Z
DTEND:20180202T160000Z
X-MICROSOFT-CDO-ALLDAYEVENT:FALSE
SUMMARY:MBA Development Officials' Forum Meeting
DESCRIPTION:MBA-Development Officials'\n\nFORUM MEETING\nFriday\, February 2 @ 7:00 a.m.\n\nTacoma Municipal Building North\, 747 Market St\, Tacoma\, WA 98402 (Conference Room 16)\n\n \n\nAgenda\n\n \n\nI.                    Introductions/Welcome to Attendees\n\n \n\nII.                  City of Tacoma presentation:\n\n \n\n\n	E-permits in Tacoma\n\n	 \n	Search capabilities with GIS\n\n	 \n	NPDES & review/inspections associated with development permitting\n\n	 \n\nIII.                Roundtable Discussion (jurisdiction updates):\n\n \n\n\n	Universal Plan Review\n\n	 \n	Building Permit Activity\n\n	 \n	Review Backlog\n\n	 \n	Staffing needs/changes \n\n\nIV.                Other Business as appropriate\n \n\nV.                  Adjournment \n\n \n\nThe Forum meeting is an opportunity for MBA members and representatives from jurisdictions throughout Pierce County to meet in person and discuss issues that affect residential construction in a friendly atmosphere.
X-ALT-DESC;FMTTYPE=text/html:<h1 align="center" style="text-align: center\;"><span style="font-size: 16px\;"><span style="font-family: arial\;"><span style="color: black\;"><strong>MBA-Development Officials&rsquo\;</strong></span></span></span></h1>\n\n<h1 align="center" style="text-align: center\;"><span style="font-size: 16px\;"><span style="font-family: arial\;"><span style="color: black\;"><strong>FORUM MEETING</strong></span></span></span></h1>\n<span style="font-size: 12px\;"><span style="font-family: arial\;"><strong>Friday\, February 2 @ 7:00 a.m.</strong><br />\n<strong>Tacoma Municipal Building North\, <span style="color: rgb(34\, 34\, 34)\;">747 Market St\, Tacoma\, WA 98402 (Conference Room 16)</span></strong><br />\n&nbsp\;<br />\n<strong><em><span style="color: black\;">Agenda</span></em></strong><br />\n&nbsp\;<br />\n<strong><span style="color: black\;">I.&nbsp\;&nbsp\;&nbsp\;&nbsp\;&nbsp\;&nbsp\;&nbsp\;&nbsp\;&nbsp\;&nbsp\;&nbsp\;&nbsp\;&nbsp\;&nbsp\;&nbsp\;&nbsp\;&nbsp\;&nbsp\;&nbsp\; Introductions/Welcome to Attendees</span></strong><br />\n&nbsp\;<br />\n<strong><span style="color: black\;">II.&nbsp\;&nbsp\;&nbsp\;&nbsp\;&nbsp\;&nbsp\;&nbsp\;&nbsp\;&nbsp\;&nbsp\;&nbsp\;&nbsp\;&nbsp\;&nbsp\;&nbsp\;&nbsp\;&nbsp\; City of Tacoma presentation:</span></strong><br />\n&nbsp\;</span></span>\n\n<ol>\n	<li style="font-style: normal\; font-weight: normal\;"><span style="font-size: 12px\;"><span style="font-family: arial\;"><span style="color: black\;">E-permits in Tacoma</span><br />\n	&nbsp\;</span></span></li>\n	<li style="color: rgb(0\, 0\, 0)\; font-family: Calibri\,sans-serif\; font-size: 12pt\; font-style: normal\; font-weight: normal\;"><span style="font-size: 12px\;"><span style="font-family: arial\;"><span style="color: black\;">Search capabilities with GIS</span><br />\n	&nbsp\;</span></span></li>\n	<li style="color: rgb(0\, 0\, 0)\; font-family: Calibri\,sans-serif\; font-size: 12pt\; font-style: normal\; font-weight: normal\;"><span style="font-size: 12px\;"><span style="font-family: arial\;"><span style="color: black\;">NPDES &amp\; review/inspections associated with development permitting</span><br />\n	&nbsp\;</span></span></li>\n</ol>\n<span style="font-size: 12px\;"><span style="font-family: arial\;"><strong><span style="color: black\;">III.&nbsp\;&nbsp\;&nbsp\;&nbsp\;&nbsp\;&nbsp\;&nbsp\;&nbsp\;&nbsp\;&nbsp\;&nbsp\;&nbsp\;&nbsp\;&nbsp\;&nbsp\; Roundtable Discussion (jurisdiction updates):</span></strong><br />\n&nbsp\;</span></span>\n\n<ol>\n	<li style="font-style: normal\; font-weight: normal\;"><span style="font-size: 12px\;"><span style="font-family: arial\;"><span style="color: black\;">Universal Plan Review</span><br />\n	&nbsp\;</span></span></li>\n	<li style="color: black\; font-family: Calibri\,sans-serif\; font-size: 12pt\; font-style: normal\; font-weight: normal\;"><span style="font-size: 12px\;"><span style="font-family: arial\;"><span style="color: black\;">Building Permit Activity</span><br />\n	&nbsp\;</span></span></li>\n	<li style="color: black\; font-family: Calibri\,sans-serif\; font-size: 12pt\; font-style: normal\; font-weight: normal\;"><span style="font-size: 12px\;"><span style="font-family: arial\;"><span style="color: black\;">Review Backlog</span><br />\n	&nbsp\;</span></span></li>\n	<li style="color: black\; font-family: Calibri\,sans-serif\; font-size: 12pt\; font-style: normal\; font-weight: normal\;"><span style="font-size: 12px\;"><span style="font-family: arial\;"><span style="color: black\;">Staffing needs/changes&nbsp\;</span></span></span></li>\n</ol>\n\n<p style="color: black\; font-family: Calibri\,sans-serif\; font-size: 12pt\; font-style: normal\; font-weight: normal\;"><span style="font-size: 12px\;"><span style="font-family: arial\;"><strong><span style="color: black\;">IV.&nbsp\;&nbsp\;&nbsp\;&nbsp\;&nbsp\;&nbsp\;&nbsp\;&nbsp\;&nbsp\;&nbsp\;&nbsp\;&nbsp\;&nbsp\;&nbsp\;&nbsp\; Other Business as appropriate</span></strong></span></span></p>\n<span style="font-size: 12px\;"><span style="font-family: arial\;">&nbsp\;<br />\n<strong><span style="color: black\;">V.&nbsp\;&nbsp\;&nbsp\;&nbsp\;&nbsp\;&nbsp\;&nbsp\;&nbsp\;&nbsp\;&nbsp\;&nbsp\;&nbsp\;&nbsp\;&nbsp\;&nbsp\;&nbsp\;&nbsp\; Adjournment </span></strong><br />\n&nbsp\;<br />\n<span style="color: black\;">The Forum meeting is an opportunity for MBA members and representatives from jurisdictions throughout Pierce County to meet in person and discuss issues that affect residential construction in a friendly atmosphere.</span></span></span><br />\n<br />\n<br />\n&nbsp\;
LOCATION:Tacoma Municipal Building North\, 747 Market St\, Tacoma\, WA 98402 (Conference Room 16)
UID:e.9280.2353
SEQUENCE:3
DTSTAMP:20260421T195133Z
URL:https://members.masterbuilderspierce.com/events/details/mba-development-officials-forum-meeting-2353
END:VEVENT

END:VCALENDAR
