BEGIN:VCALENDAR
VERSION:2.0
PRODID:-//ChamberMaster//Event Calendar 2.0//EN
METHOD:PUBLISH
X-PUBLISHED-TTL:P3D
REFRESH-INTERVAL:P3D
CALSCALE:GREGORIAN
BEGIN:VEVENT
DTSTART:20171103T140000Z
DTEND:20171103T150000Z
X-MICROSOFT-CDO-ALLDAYEVENT:FALSE
SUMMARY:MBA Development Officials' Forum Meeting
DESCRIPTION:AGENDA\n\n\n	Introductions/Welcome to attendees\n	City of Puyallup presentation:\n	\n		Residential Storm Water Code/Standards revisions\n		Electronic Plan Review Status\n		Park Impact Fee\n	\n	\n	Roundtable Discussion (jurisdiction updates):\n	\n		November 16\, 2017 MBA Pierce Builders Group Meeting\n		Building Permit Activity\n		Review Backlog\n		Staffing needs/changes\n	\n	\n	Other Business as appropriate:\n	\n		November 16\, 2017 MBA Pierce Builders Group Meeting\n	\n	\n	Adjournment\n\n \n\nThe Forum meeting is an opportunity for MBA members and representatives from jurisdictions throughout Pierce County to meet in person and discuss issues that affect residential construction in a friendly atmosphere.\n\n \n\nIf you would like to add any issues to this or future agendas\, or if you have questions regarding these issues\, please contact Jeremiah Lafranca\, MBA Government Affairs Director\, at (253) 254-0085.
X-ALT-DESC;FMTTYPE=text/html:<h1 align="center" style="text-align: center\;">&nbsp\;</h1>\n&nbsp\;<strong><u>AGENDA</u></strong>\n\n<ol>\n	<li><strong>Introductions/Welcome to attendees</strong></li>\n	<li><strong>City of Puyallup presentation:</strong>\n	<ul>\n		<li>Residential Storm Water Code/Standards revisions</li>\n		<li>Electronic Plan Review Status</li>\n		<li>Park Impact Fee</li>\n	</ul>\n	</li>\n	<li><strong>Roundtable Discussion (jurisdiction updates):</strong>\n	<ul>\n		<li>November 16\, 2017 MBA Pierce Builders Group Meeting</li>\n		<li>Building Permit Activity</li>\n		<li>Review Backlog</li>\n		<li>Staffing needs/changes</li>\n	</ul>\n	</li>\n	<li><strong>Other Business as appropriate:</strong>\n	<ol>\n		<li>November 16\, 2017 MBA Pierce Builders Group Meeting</li>\n	</ol>\n	</li>\n	<li><strong>Adjournment</strong></li>\n</ol>\n<strong><span style="color: black\;"><span style="font-family: calibri\,sans-serif\;">&nbsp\;<br />\n<span style="color: black\;"><span style="font-family: calibri\,sans-serif\;">The Forum meeting is an opportunity for MBA members and representatives from jurisdictions throughout Pierce County to meet in person and discuss issues that affect residential construction in a friendly atmosphere.</span></span><br />\n&nbsp\;<br />\n<strong><span style="color: black\;"><span style="font-family: calibri\,sans-serif\;">If you&nbsp\;would like to add any issues to this or future agendas\, or if you have questions regarding&nbsp\;these issues\, please contact Jeremiah Lafranca\, MBA Government Affairs Director\, at (253) 254-0085.</span></span></strong></span></span></strong><br />\n&nbsp\;
LOCATION:Puyallup Library\, South Conference Room 324 South Meridian\, Puyallup\, WA 98371
UID:e.9280.2052
SEQUENCE:3
DTSTAMP:20260422T004131Z
URL:https://members.masterbuilderspierce.com/events/details/mba-development-officials-forum-meeting-2052
END:VEVENT

END:VCALENDAR
