BEGIN:VCALENDAR
VERSION:2.0
PRODID:-//ChamberMaster//Event Calendar 2.0//EN
METHOD:PUBLISH
X-PUBLISHED-TTL:P3D
REFRESH-INTERVAL:P3D
CALSCALE:GREGORIAN
BEGIN:VEVENT
DTSTART:20170901T140000Z
DTEND:20170901T150000Z
X-MICROSOFT-CDO-ALLDAYEVENT:FALSE
SUMMARY:MBA Development Officials' Forum Meeting
DESCRIPTION:MBA Development Officials' Forum\n\n\n\nAgenda\n\n	Pierce County presentation on Centers & Corridors/Community Plans Proposal: Pierce County is in the process of updating 4 of its community plans - Parkland/Spanaway/Midland\, South Hill\, Mid-County\, and Frederickson.  After completing its initial public outreach effort\, the County has refined its Centers and Corridors proposal that calls for rezoning areas along Pacific Avenue\, Meridian\, 112th Street and at Canyon Road and 176th Street.   Come learn about the County's refined proposal as well as other policy and rezoning requests that have been made through this process.  You can learn more about the Community Plan updates by visiting www.piercecountywa.org/cpupdate.\n	Roundtable discussion on permitting activity\, review backlogs\, staffing needs for jurisdictions and more.
X-ALT-DESC;FMTTYPE=text/html:<span style="font-size: 16px\;"><span style="font-family: arial\;">MBA Development Officials&#39\; Forum<br />\n<br />\n<u><strong>Agenda</strong></u></span></span>\n<ol>\n	<li><span style="font-size: 16px\;"><span style="font-family: arial\;"><strong>Pierce County presentation on Centers &amp\; Corridors/Community Plans Proposal:</strong>&nbsp\;Pierce County is in the process of updating 4 of its community plans -&nbsp\;<span style="background-color: rgba(255\, 255\, 255\, 0)\;">Parkland/Spanaway/Midland\, South Hill\, Mid-County\, and Frederickson. &nbsp\;After completing its initial public outreach effort\, the County has refined its Centers and Corridors proposal that calls for rezoning areas along Pacific Avenue\, Meridian\, 112th Street and at Canyon Road and 176th Street. &nbsp\; Come learn about the County&#39\;s refined proposal as well as other policy and rezoning requests that have been made through this process. &nbsp\;You can learn more about the Community Plan updates by visiting</span>&nbsp\;<a href="http://www.piercecountywa.org/cpupdate"><span style="color: rgb(5\, 99\, 193)\;">www.piercecountywa.org/cpupdate</span></a>.</span></span></li>\n	<li><span style="font-size: 16px\;">Roundtable discussion on permitting activity\, review backlogs\, staffing needs for jurisdictions and more.</span></li>\n</ol>\n
LOCATION:Pierce County Annex 2401 S 35th St\, Conference Room D Tacoma\, WA 98409
UID:e.9280.2029
SEQUENCE:3
DTSTAMP:20260422T035546Z
URL:https://members.masterbuilderspierce.com/events/details/mba-development-officials-forum-meeting-2029
END:VEVENT

END:VCALENDAR
